BEGIN:VCALENDAR
VERSION:2.0
PRODID:-//hacksw/handcal//NONSGML v1.0//EN
BEGIN:VEVENT
SUMMARY:BIKE CAMP Lac de madine (55)
UID:639b70ab-03aa-4bc3-97ba-2001184f2355
DTSTART:20260705T060000Z
DTEND:20260712T160000Z
LOCATION:Localisation lac de madine 55 
CATEGORIES:Manifestation
STATUS:
DESCRIPTION:<p class="MsoNoSpacing"><span
 style="font-size:12pt;"><span style="font-family:Aptos,
 sans-serif;">Bonjour a tous,</span></span></p>
 
 <p
 class="MsoNoSpacing"><span style="font-size:12pt;"><span
 style="font-family:Aptos, sans-serif;">Comme chaque ete, nous
 organisons un sejour d’une semaine durant lequel les differentes
 regions se retrouvent.<br>
 Cette annee, celui-ci se deroulera au lac
 de Madine (55), en Meuse.</span></span></p>
 
 <p
 class="MsoNoSpacing"><span style="font-size:12pt;"><span
 style="font-family:Aptos, sans-serif;">En camping prevoir tente
 couchage etc)</span></span></p>
 
 <p class="MsoNoSpacing"><span
 style="font-size:12pt;"><span style="font-family:Aptos,
 sans-serif;">Au programme : une belle semaine autour du velo, dans
 une ambiance conviviale et sportive, avec des epreuves inter-regions,
 des jeux et bien sur de belles sorties VTT.</span></span></p>
 
 <p
 class="MsoNoSpacing"><span style="font-size:12pt;"><span
 style="font-family:Aptos, sans-serif;">Ce sejour s’adresse aux
 jeunes a partir de 10 ans revolus.<br>
 Il est toutefois important
 d’avoir un niveau minimum en velo afin de pouvoir profiter
 pleinement de la semaine, chacun evoluant bien entendu selon ses
 capacites.</span></span></p>
 
 <p class="MsoNoSpacing"><span
 style="font-size:12pt;"><span style="font-family:Aptos,
 sans-serif;">Concernant le deplacement, et compte tenu de la
 distance, le transport se fera en minibus pour des raisons
 d’organisation et de budget.</span></span></p>
 
 <p
 class="MsoNoSpacing"><span style="font-size:12pt;"><span
 style="font-family:Aptos, sans-serif;">Pour notre club, 2 minibus
 sont prevus, avec 2 educateurs par minibus.<br>
 Cela nous amene donc
 a une capacite maximale de 14 enfants.</span></span></p>
 
 <p
 class="MsoNoSpacing"><span style="font-size:12pt;"><span
 style="font-family:Aptos, sans-serif;">Sur le plan financier, le cout
 du sejour est de 330 €.<br>
 Le club prendra en charge 100 € par
 enfant. Le CODEP participe egalement aux frais de
 transport.</span></span></p>
 
 <p class="MsoNoSpacing"><span
 style="font-size:12pt;"><span style="font-family:Aptos,
 sans-serif;">A ce jour, nous pouvons donc envisager un cout final
 compris entre 150 € et 200 € par enfant, pour la semaine
 complete.( cela pouvant etre inferieur demandes de subventions en
 cours)</span></span></p>
 
 <p class="MsoNoSpacing"><span
 style="font-size:12pt;"><span style="font-family:Aptos,
 sans-serif;">Pour toute question, vous pouvez bien entendu me
 contacter directement.<br>
 Pour les familles interessees, merci de
 vous inscrire rapidement, afin de nous permettre d’organiser et de
 finaliser le budget dans les meilleures
 conditions.</span></span></p>
 
 <p class="MsoNoSpacing"><span
 style="font-size:12pt;"><span style="font-family:Aptos,
 sans-serif;">Je reviendrai vers vous tres prochainement des que nous
 aurons arrete le tarif definitif.</span></span></p>
 
 <p
 class="MsoNoSpacing"><span style="font-size:12pt;"><span
 style="font-family:Aptos, sans-serif;">Alexandre<br>
 06 17 74 84
 49<br>
 ecolevtt@vttacv.fr</span></span></p>
 
 <p
 class="MsoNoSpacing"> </p>
URL;VALUE=URI:https://www.vttacv.fr/evenements/2026/07/05/bike-camp-lac-de-madine-55-2443834
END:VEVENT
END:VCALENDAR
